BEGIN:VCALENDAR
VERSION:2.0
PRODID:icalendar-ruby
CALSCALE:GREGORIAN
METHOD:PUBLISH
BEGIN:VEVENT
DTSTAMP:20260422T161419Z
UID:7-409460@citychurchhouston.com
DTSTART:20261029T020000Z
DTEND:20261029T030000Z
CLASS:PUBLIC
CREATED:20260422T081804
DESCRIPTION:The Journey Bible Study
LAST-MODIFIED:20260422T081804
LOCATION:
SUMMARY:The Journey Bible Study
URL;VALUE=URI:https://www.citychurchhouston.com/events/the-journey-bible-st
 udy/2026-10-28
END:VEVENT
END:VCALENDAR
