BEGIN:VCALENDAR
VERSION:2.0
PRODID:icalendar-ruby
CALSCALE:GREGORIAN
METHOD:PUBLISH
BEGIN:VEVENT
DTSTAMP:20260422T125814Z
UID:7-409137@citychurchhouston.com
DTSTART:20261015T020000Z
DTEND:20261015T030000Z
CLASS:PUBLIC
CREATED:20260422T052257
DESCRIPTION:The Journey Bible Study
LAST-MODIFIED:20260422T052257
LOCATION:
SUMMARY:The Journey Bible Study
URL;VALUE=URI:https://www.citychurchhouston.com/events/the-journey-bible-st
 udy/2026-10-14
END:VEVENT
END:VCALENDAR
