BEGIN:VCALENDAR
VERSION:2.0
PRODID:icalendar-ruby
CALSCALE:GREGORIAN
METHOD:PUBLISH
BEGIN:VEVENT
DTSTAMP:20260422T064346Z
UID:7-408812@citychurchhouston.com
DTSTART:20260917T020000Z
DTEND:20260917T030000Z
CLASS:PUBLIC
CREATED:20260421T181634
DESCRIPTION:The Journey Bible Study
LAST-MODIFIED:20260421T181634
LOCATION:
SUMMARY:The Journey Bible Study
URL;VALUE=URI:https://www.citychurchhouston.com/events/the-journey-bible-st
 udy/2026-09-16
END:VEVENT
END:VCALENDAR
