BEGIN:VCALENDAR
VERSION:2.0
PRODID:icalendar-ruby
CALSCALE:GREGORIAN
METHOD:PUBLISH
BEGIN:VEVENT
DTSTAMP:20260422T001202Z
UID:7-408487@citychurchhouston.com
DTSTART:20260820T020000Z
DTEND:20260820T030000Z
CLASS:PUBLIC
CREATED:20260421T153745
DESCRIPTION:The Journey Bible Study
LAST-MODIFIED:20260421T153745
LOCATION:
SUMMARY:The Journey Bible Study
URL;VALUE=URI:https://www.citychurchhouston.com/events/the-journey-bible-st
 udy/2026-08-19
END:VEVENT
END:VCALENDAR
