BEGIN:VCALENDAR
VERSION:2.0
PRODID:icalendar-ruby
CALSCALE:GREGORIAN
METHOD:PUBLISH
BEGIN:VEVENT
DTSTAMP:20260421T205458Z
UID:7-408164@citychurchhouston.com
DTSTART:20260806T020000Z
DTEND:20260806T030000Z
CLASS:PUBLIC
CREATED:20260421T125935
DESCRIPTION:The Journey Bible Study
LAST-MODIFIED:20260421T125935
LOCATION:
SUMMARY:The Journey Bible Study
URL;VALUE=URI:https://www.citychurchhouston.com/events/the-journey-bible-st
 udy/2026-08-05
END:VEVENT
END:VCALENDAR
