BEGIN:VCALENDAR
VERSION:2.0
PRODID:icalendar-ruby
CALSCALE:GREGORIAN
METHOD:PUBLISH
BEGIN:VEVENT
DTSTAMP:20260421T191636Z
UID:7-407842@citychurchhouston.com
DTSTART:20260730T020000Z
DTEND:20260730T030000Z
CLASS:PUBLIC
CREATED:20260421T102334
DESCRIPTION:The Journey Bible Study
LAST-MODIFIED:20260421T102334
LOCATION:
SUMMARY:The Journey Bible Study
URL;VALUE=URI:https://www.citychurchhouston.com/events/the-journey-bible-st
 udy/2026-07-29
END:VEVENT
END:VCALENDAR
