BEGIN:VCALENDAR
VERSION:2.0
PRODID:icalendar-ruby
CALSCALE:GREGORIAN
METHOD:PUBLISH
BEGIN:VEVENT
DTSTAMP:20260421T163212Z
UID:7-407519@citychurchhouston.com
DTSTART:20260716T020000Z
DTEND:20260716T030000Z
CLASS:PUBLIC
CREATED:20260421T074340
DESCRIPTION:The Journey Bible Study
LAST-MODIFIED:20260421T074340
LOCATION:
SUMMARY:The Journey Bible Study
URL;VALUE=URI:https://www.citychurchhouston.com/events/the-journey-bible-st
 udy/2026-07-15
END:VEVENT
END:VCALENDAR
