BEGIN:VCALENDAR
VERSION:2.0
PRODID:icalendar-ruby
CALSCALE:GREGORIAN
METHOD:PUBLISH
BEGIN:VEVENT
DTSTAMP:20260421T133724Z
UID:7-407196@citychurchhouston.com
DTSTART:20260702T020000Z
DTEND:20260702T030000Z
CLASS:PUBLIC
CREATED:20260421T050812
DESCRIPTION:The Journey Bible Study
LAST-MODIFIED:20260421T050812
LOCATION:
SUMMARY:The Journey Bible Study
URL;VALUE=URI:https://www.citychurchhouston.com/events/the-journey-bible-st
 udy/2026-07-01
END:VEVENT
END:VCALENDAR
