BEGIN:VCALENDAR
VERSION:2.0
PRODID:icalendar-ruby
CALSCALE:GREGORIAN
METHOD:PUBLISH
BEGIN:VEVENT
DTSTAMP:20260421T121440Z
UID:7-407195@citychurchhouston.com
DTSTART:20260625T020000Z
DTEND:20260625T030000Z
CLASS:PUBLIC
CREATED:20260421T050812
DESCRIPTION:The Journey Bible Study
LAST-MODIFIED:20260421T050812
LOCATION:
SUMMARY:The Journey Bible Study
URL;VALUE=URI:https://www.citychurchhouston.com/events/the-journey-bible-st
 udy/2026-06-24
END:VEVENT
END:VCALENDAR
