BEGIN:VCALENDAR
VERSION:2.0
PRODID:icalendar-ruby
CALSCALE:GREGORIAN
METHOD:PUBLISH
BEGIN:VEVENT
DTSTAMP:20260421T103246Z
UID:7-406873@citychurchhouston.com
DTSTART:20260618T020000Z
DTEND:20260618T030000Z
CLASS:PUBLIC
CREATED:20260420T180126
DESCRIPTION:The Journey Bible Study
LAST-MODIFIED:20260420T180126
LOCATION:
SUMMARY:The Journey Bible Study
URL;VALUE=URI:https://www.citychurchhouston.com/events/the-journey-bible-st
 udy/2026-06-17
END:VEVENT
END:VCALENDAR
