BEGIN:VCALENDAR
VERSION:2.0
PRODID:icalendar-ruby
CALSCALE:GREGORIAN
METHOD:PUBLISH
BEGIN:VEVENT
DTSTAMP:20260420T210914Z
UID:8-406357@citychurchhouston.com
DTSTART:20261101T183000Z
DTEND:20261101T193000Z
CLASS:PUBLIC
CREATED:20260420T125047
DESCRIPTION:Sunday Service
LAST-MODIFIED:20260420T125047
LOCATION:
SUMMARY:Sunday Service
URL;VALUE=URI:https://www.citychurchhouston.com/events/sunday-service--8/20
 26-11-01
END:VEVENT
END:VCALENDAR
