BEGIN:VCALENDAR
VERSION:2.0
PRODID:icalendar-ruby
CALSCALE:GREGORIAN
METHOD:PUBLISH
BEGIN:VEVENT
DTSTAMP:20260420T153534Z
UID:8-405712@citychurchhouston.com
DTSTART:20261011T173000Z
DTEND:20261011T183000Z
CLASS:PUBLIC
CREATED:20260420T074140
DESCRIPTION:Sunday Service
LAST-MODIFIED:20260420T074140
LOCATION:
SUMMARY:Sunday Service
URL;VALUE=URI:https://www.citychurchhouston.com/events/sunday-service--8/20
 26-10-11
END:VEVENT
END:VCALENDAR
