BEGIN:VCALENDAR
VERSION:2.0
PRODID:icalendar-ruby
CALSCALE:GREGORIAN
METHOD:PUBLISH
BEGIN:VEVENT
DTSTAMP:20260420T134941Z
UID:8-405390@citychurchhouston.com
DTSTART:20261004T173000Z
DTEND:20261004T183000Z
CLASS:PUBLIC
CREATED:20260420T050656
DESCRIPTION:Sunday Service
LAST-MODIFIED:20260420T050656
LOCATION:
SUMMARY:Sunday Service
URL;VALUE=URI:https://www.citychurchhouston.com/events/sunday-service--8/20
 26-10-04
END:VEVENT
END:VCALENDAR
