BEGIN:VCALENDAR
VERSION:2.0
PRODID:icalendar-ruby
CALSCALE:GREGORIAN
METHOD:PUBLISH
BEGIN:VEVENT
DTSTAMP:20260420T103708Z
UID:8-405067@citychurchhouston.com
DTSTART:20260920T173000Z
DTEND:20260920T183000Z
CLASS:PUBLIC
CREATED:20260420T002431
DESCRIPTION:Sunday Service
LAST-MODIFIED:20260420T002431
LOCATION:
SUMMARY:Sunday Service
URL;VALUE=URI:https://www.citychurchhouston.com/events/sunday-service--8/20
 26-09-20
END:VEVENT
END:VCALENDAR
