BEGIN:VCALENDAR
VERSION:2.0
PRODID:icalendar-ruby
CALSCALE:GREGORIAN
METHOD:PUBLISH
BEGIN:VEVENT
DTSTAMP:20260420T072053Z
UID:8-404744@citychurchhouston.com
DTSTART:20260906T173000Z
DTEND:20260906T183000Z
CLASS:PUBLIC
CREATED:20260419T204714
DESCRIPTION:Sunday Service
LAST-MODIFIED:20260419T204714
LOCATION:
SUMMARY:Sunday Service
URL;VALUE=URI:https://www.citychurchhouston.com/events/sunday-service--8/20
 26-09-06
END:VEVENT
END:VCALENDAR
