BEGIN:VCALENDAR
VERSION:2.0
PRODID:icalendar-ruby
CALSCALE:GREGORIAN
METHOD:PUBLISH
BEGIN:VEVENT
DTSTAMP:20260420T012636Z
UID:8-404420@citychurchhouston.com
DTSTART:20260816T173000Z
DTEND:20260816T183000Z
CLASS:PUBLIC
CREATED:20260419T170942
DESCRIPTION:Sunday Service
LAST-MODIFIED:20260419T170942
LOCATION:
SUMMARY:Sunday Service
URL;VALUE=URI:https://www.citychurchhouston.com/events/sunday-service--8/20
 26-08-16
END:VEVENT
END:VCALENDAR
