BEGIN:VCALENDAR
VERSION:2.0
PRODID:icalendar-ruby
CALSCALE:GREGORIAN
METHOD:PUBLISH
BEGIN:VEVENT
DTSTAMP:20260419T214142Z
UID:8-404097@citychurchhouston.com
DTSTART:20260802T173000Z
DTEND:20260802T183000Z
CLASS:PUBLIC
CREATED:20260419T132725
DESCRIPTION:Sunday Service
LAST-MODIFIED:20260419T132725
LOCATION:
SUMMARY:Sunday Service
URL;VALUE=URI:https://www.citychurchhouston.com/events/sunday-service--8/20
 26-08-02
END:VEVENT
END:VCALENDAR
