BEGIN:VCALENDAR
VERSION:2.0
PRODID:icalendar-ruby
CALSCALE:GREGORIAN
METHOD:PUBLISH
BEGIN:VEVENT
DTSTAMP:20260419T194927Z
UID:8-403776@citychurchhouston.com
DTSTART:20260726T173000Z
DTEND:20260726T183000Z
CLASS:PUBLIC
CREATED:20260419T094501
DESCRIPTION:Sunday Service
LAST-MODIFIED:20260419T094501
LOCATION:
SUMMARY:Sunday Service
URL;VALUE=URI:https://www.citychurchhouston.com/events/sunday-service--8/20
 26-07-26
END:VEVENT
END:VCALENDAR
